BEGIN:VCALENDAR
METHOD:PUBLISH
PRODID:-//Your-Prodid-Here//NONSGML iCalcreator 0.9.15//
VERSION:2.0
BEGIN:VEVENT
CLASS:PUBLIC
DTSTART;VALUE=DATE-TIME:20240913T000000
DTEND;VALUE=DATE-TIME:20240916T235900
DTSTAMP:20260420T052055Z
LOCATION:Feuerwehr Gaimersheim
PRIORITY:3
SUMMARY:Reservierung Hüpfburg
UID:2b337caec81c3ecdc53e5dc459b9b7b5@your-domain.com
URL:https://www.kbi-dachau.de/reservierung-huepfburg_v_30.html
END:VEVENT
END:VCALENDAR
	
