BEGIN:VCALENDAR
METHOD:PUBLISH
PRODID:-//Your-Prodid-Here//NONSGML iCalcreator 0.9.15//
VERSION:2.0
BEGIN:VEVENT
CLASS:PUBLIC
DTSTART;VALUE=DATE-TIME:20240830T000000
DTEND;VALUE=DATE-TIME:20240902T235900
DTSTAMP:20260420T052247Z
LOCATION:Feuerwehr Rennertshofen
PRIORITY:3
SUMMARY:Reservierung Hüpfburg
UID:0632118ae113111e44bb9faa408e9288@your-domain.com
URL:https://www.kbi-dachau.de/reservierung-huepfburg_v_27.html
END:VEVENT
END:VCALENDAR
	
