BEGIN:VCALENDAR
METHOD:PUBLISH
PRODID:-//Your-Prodid-Here//NONSGML iCalcreator 0.9.15//
VERSION:2.0
BEGIN:VEVENT
CLASS:PUBLIC
DTSTART;VALUE=DATE-TIME:20240823T000000
DTEND;VALUE=DATE-TIME:20240825T235900
DTSTAMP:20260420T052400Z
LOCATION:Feuerwehr Rottenegg
PRIORITY:3
SUMMARY:Reservierung Hüpfburg
UID:68fa21aa64e497041c5be60c79043bcd@your-domain.com
URL:https://www.kbi-dachau.de/reservierung-huepfburg_v_26.html
END:VEVENT
END:VCALENDAR
	
