BEGIN:VCALENDAR
METHOD:PUBLISH
PRODID:-//Your-Prodid-Here//NONSGML iCalcreator 0.9.15//
VERSION:2.0
BEGIN:VEVENT
CLASS:PUBLIC
DTSTART;VALUE=DATE-TIME:20240814T000000
DTEND;VALUE=DATE-TIME:20240818T235900
DTSTAMP:20260420T052019Z
LOCATION:Feuerwehr Dünzelbach
PRIORITY:3
SUMMARY:Reservierung Hüpfburg
UID:316f7b95f3c7f0f9d7f043560fea52e8@your-domain.com
URL:https://www.kbi-dachau.de/reservierung-huepfburg_v_25.html
END:VEVENT
END:VCALENDAR
	
