BEGIN:VCALENDAR
METHOD:PUBLISH
PRODID:-//Your-Prodid-Here//NONSGML iCalcreator 0.9.15//
VERSION:2.0
BEGIN:VEVENT
CLASS:PUBLIC
DTSTART;VALUE=DATE-TIME:20260524T000000
DTEND;VALUE=DATE-TIME:20260524T235900
DTSTAMP:20260424T033930Z
LOCATION:Feuerwehr Indersdorf 
PRIORITY:3
SUMMARY:Reservierung Feuerlöschtrainer
UID:3e8d939cde63f8b61f6535678b9334dd@your-domain.com
URL:https://www.kbi-dachau.de/reservierung-feuerloeschtrainer_v_247.html
END:VEVENT
END:VCALENDAR
	
