BEGIN:VCALENDAR
METHOD:PUBLISH
PRODID:-//Your-Prodid-Here//NONSGML iCalcreator 0.9.15//
VERSION:2.0
BEGIN:VEVENT
CLASS:PUBLIC
DTSTART;VALUE=DATE-TIME:20260424T010005
DTEND;VALUE=DATE-TIME:20260424T010005
DTSTAMP:20260424T032518Z
LOCATION:Feuerwehr Rottenegg
PRIORITY:3
SUMMARY:Reservierung Hüpfburg
UID:da3c9d7f7497e059114a85676c48c3c4@your-domain.com
URL:https://www.kbi-dachau.de/reservierung-huepfburg_v_245.html
END:VEVENT
END:VCALENDAR
	
