BEGIN:VCALENDAR
METHOD:PUBLISH
PRODID:-//Your-Prodid-Here//NONSGML iCalcreator 0.9.15//
VERSION:2.0
BEGIN:VEVENT
CLASS:PUBLIC
DTSTART;VALUE=DATE-TIME:20240802T000000
DTEND;VALUE=DATE-TIME:20240806T235900
DTSTAMP:20260420T052055Z
LOCATION:Feuerwehr Mühlheim
PRIORITY:3
SUMMARY:Reservierung Hüpfburg
UID:fca38343d7c2e42e34cbaa6bd6d98e9f@your-domain.com
URL:https://www.kbi-dachau.de/reservierung-huepfburg_v_23.html
END:VEVENT
END:VCALENDAR
	
