BEGIN:VCALENDAR
METHOD:PUBLISH
PRODID:-//Your-Prodid-Here//NONSGML iCalcreator 0.9.15//
VERSION:2.0
BEGIN:VEVENT
CLASS:PUBLIC
DTSTART;VALUE=DATE-TIME:20261003T000000
DTEND;VALUE=DATE-TIME:20261004T235900
DTSTAMP:20260421T083902Z
LOCATION:Feuerwehr Magnetsried
PRIORITY:3
SUMMARY:Reservierung Hüpfburg
UID:1a53bf397c20369e64bf37152616aa1c@your-domain.com
URL:https://www.kbi-dachau.de/reservierung-huepfburg_v_226.html
END:VEVENT
END:VCALENDAR
	
