BEGIN:VCALENDAR
METHOD:PUBLISH
PRODID:-//Your-Prodid-Here//NONSGML iCalcreator 0.9.15//
VERSION:2.0
BEGIN:VEVENT
CLASS:PUBLIC
DTSTART;VALUE=DATE-TIME:20260410T000000
DTEND;VALUE=DATE-TIME:20260414T235900
DTSTAMP:20260420T051949Z
LOCATION:Feuerwehr Baiern
PRIORITY:3
SUMMARY:Reservierung Hüpfburg
UID:ac965edc292c9e034aaf623d7ea374c1@your-domain.com
URL:https://www.kbi-dachau.de/reservierung-huepfburg_v_220.html
END:VEVENT
END:VCALENDAR
	
