BEGIN:VCALENDAR
METHOD:PUBLISH
PRODID:-//Your-Prodid-Here//NONSGML iCalcreator 0.9.15//
VERSION:2.0
BEGIN:VEVENT
CLASS:PUBLIC
DTSTART;VALUE=DATE-TIME:20240719T000000
DTEND;VALUE=DATE-TIME:20240721T235900
DTSTAMP:20260420T052400Z
LOCATION:Kreisfeuerwehrverband Neuburg-Schrobenhausen
PRIORITY:3
SUMMARY:Reservierung Hüpfburg
UID:b8fd71efbe6e1429c0ae888ecd8ed15e@your-domain.com
URL:https://www.kbi-dachau.de/reservierung-huepfburg_v_22.html
END:VEVENT
END:VCALENDAR
	
