BEGIN:VCALENDAR
METHOD:PUBLISH
PRODID:-//Your-Prodid-Here//NONSGML iCalcreator 0.9.15//
VERSION:2.0
BEGIN:VEVENT
CLASS:PUBLIC
DTSTART;VALUE=DATE-TIME:20260424T000000
DTEND;VALUE=DATE-TIME:20260426T235900
DTSTAMP:20260420T052411Z
LOCATION:Feuerwehr Lichtenau
PRIORITY:3
SUMMARY:Reservierung Hüpfburg
UID:3f830fc559adf15a9e5aab0b48b92dc8@your-domain.com
URL:https://www.kbi-dachau.de/reservierung-huepfburg_v_219.html
END:VEVENT
END:VCALENDAR
	
