BEGIN:VCALENDAR
METHOD:PUBLISH
PRODID:-//Your-Prodid-Here//NONSGML iCalcreator 0.9.15//
VERSION:2.0
BEGIN:VEVENT
CLASS:PUBLIC
DTSTART;VALUE=DATE-TIME:20260717T000000
DTEND;VALUE=DATE-TIME:20260719T235900
DTSTAMP:20260420T051949Z
LOCATION:Feuerwehr Helfendorf
PRIORITY:3
SUMMARY:Reservierung Hüpfburg
UID:1e91b2c50df582a1f7d27a2e1ba6fb30@your-domain.com
URL:https://www.kbi-dachau.de/reservierung-huepfburg_v_218.html
END:VEVENT
END:VCALENDAR
	
