BEGIN:VCALENDAR
METHOD:PUBLISH
PRODID:-//Your-Prodid-Here//NONSGML iCalcreator 0.9.15//
VERSION:2.0
BEGIN:VEVENT
CLASS:PUBLIC
DTSTART;VALUE=DATE-TIME:20261216T190000
DTEND;VALUE=DATE-TIME:20261216T220000
DTSTAMP:20260420T052411Z
LOCATION:Katastrophenschutzzentrum
PRIORITY:3
SUMMARY:KBM-Dienstbesprechung
UID:68c2dee7114f177f015a713ced35ae64@your-domain.com
URL:https://www.kbi-dachau.de/kbm-dienstbesprechung_v_217.html
END:VEVENT
END:VCALENDAR
	
