BEGIN:VCALENDAR
METHOD:PUBLISH
PRODID:-//Your-Prodid-Here//NONSGML iCalcreator 0.9.15//
VERSION:2.0
BEGIN:VEVENT
CLASS:PUBLIC
DTSTART;VALUE=DATE-TIME:20261014T190000
DTEND;VALUE=DATE-TIME:20261014T220000
DTSTAMP:20260420T052431Z
LOCATION:Katastrophenschutzzentrum
PRIORITY:3
SUMMARY:KBM-Dienstbesprechung
UID:5d9750195cd7747ac776e4711db31b82@your-domain.com
URL:https://www.kbi-dachau.de/kbm-dienstbesprechung_v_215.html
END:VEVENT
END:VCALENDAR
	
