BEGIN:VCALENDAR
METHOD:PUBLISH
PRODID:-//Your-Prodid-Here//NONSGML iCalcreator 0.9.15//
VERSION:2.0
BEGIN:VEVENT
CLASS:PUBLIC
DTSTART;VALUE=DATE-TIME:20261007T190000
DTEND;VALUE=DATE-TIME:20261007T220000
DTSTAMP:20260420T075344Z
LOCATION:Katastrophenschutzzentrum
PRIORITY:3
SUMMARY:Übung Katastrophenschutz
UID:866548afe3f66e5c76af5cce952f70c5@your-domain.com
URL:https://www.kbi-dachau.de/Uebung-katastrophenschutz_v_214.html
END:VEVENT
END:VCALENDAR
	
