BEGIN:VCALENDAR
METHOD:PUBLISH
PRODID:-//Your-Prodid-Here//NONSGML iCalcreator 0.9.15//
VERSION:2.0
BEGIN:VEVENT
CLASS:PUBLIC
DTSTART;VALUE=DATE-TIME:20260918T190000
DTEND;VALUE=DATE-TIME:20260918T230000
DTSTAMP:20260420T052405Z
LOCATION:Katastrophenschutzzentrum
PRIORITY:3
SUMMARY:Grillfest der Jugendwarte
UID:7ffa0a93b22e119599a41c8ff8f0790d@your-domain.com
URL:https://www.kbi-dachau.de/grillfest-der-jugendwarte_v_213.html
END:VEVENT
END:VCALENDAR
	
