BEGIN:VCALENDAR
METHOD:PUBLISH
PRODID:-//Your-Prodid-Here//NONSGML iCalcreator 0.9.15//
VERSION:2.0
BEGIN:VEVENT
CLASS:PUBLIC
DTSTART;VALUE=DATE-TIME:20260916T190000
DTEND;VALUE=DATE-TIME:20260916T220000
DTSTAMP:20260420T075453Z
LOCATION:Katastrophenschutzzentrum
PRIORITY:3
SUMMARY:KBM-Dienstbesprechung
UID:c47b89db287fbdaba20b0f749ad73d3d@your-domain.com
URL:https://www.kbi-dachau.de/kbm-dienstbesprechung_v_212.html
END:VEVENT
END:VCALENDAR
	
