BEGIN:VCALENDAR
METHOD:PUBLISH
PRODID:-//Your-Prodid-Here//NONSGML iCalcreator 0.9.15//
VERSION:2.0
BEGIN:VEVENT
CLASS:PUBLIC
DTSTART;VALUE=DATE-TIME:20260815T100000
DTEND;VALUE=DATE-TIME:20260815T150000
DTSTAMP:20260420T052406Z
LOCATION:Volksfest Dachau
PRIORITY:3
SUMMARY:Volksfeststammtisch
UID:c2efed529313472109f6fc10d6a173bd@your-domain.com
URL:https://www.kbi-dachau.de/volksfeststammtisch_v_211.html
END:VEVENT
END:VCALENDAR
	
