BEGIN:VCALENDAR
METHOD:PUBLISH
PRODID:-//Your-Prodid-Here//NONSGML iCalcreator 0.9.15//
VERSION:2.0
BEGIN:VEVENT
CLASS:PUBLIC
DTSTART;VALUE=DATE-TIME:20260715T190000
DTEND;VALUE=DATE-TIME:20260715T220000
DTSTAMP:20260420T052400Z
LOCATION:Katastrophenschutzzentrum
PRIORITY:3
SUMMARY:KBM-Dienstbesprechung mit Verbandsausschuss
UID:b6ad1fe55be9b298a5cc91fde34b46bc@your-domain.com
URL:https://www.kbi-dachau.de/kbm-dienstbesprechung-mit-verbandsausschuss_v_210.html
END:VEVENT
END:VCALENDAR
	
