BEGIN:VCALENDAR
METHOD:PUBLISH
PRODID:-//Your-Prodid-Here//NONSGML iCalcreator 0.9.15//
VERSION:2.0
BEGIN:VEVENT
CLASS:PUBLIC
DTSTART;VALUE=DATE-TIME:20240712T000000
DTEND;VALUE=DATE-TIME:20240714T235900
DTSTAMP:20260420T051948Z
LOCATION:Feuerwehr Icking
PRIORITY:3
SUMMARY:Reservierung Hüpfburg
UID:3e8ee9f02afbfd5fb5b8431a6154f1a4@your-domain.com
URL:https://www.kbi-dachau.de/reservierung-huepfburg_v_21.html
END:VEVENT
END:VCALENDAR
	
