BEGIN:VCALENDAR
METHOD:PUBLISH
PRODID:-//Your-Prodid-Here//NONSGML iCalcreator 0.9.15//
VERSION:2.0
BEGIN:VEVENT
CLASS:PUBLIC
DTSTART;VALUE=DATE-TIME:20260425T090000
DTEND;VALUE=DATE-TIME:20260425T150000
DTSTAMP:20260420T052400Z
LOCATION:Katastrophenschutzzentrum
PRIORITY:3
SUMMARY:Fortbildung Jugendwarte
UID:7cceb78f749f25be51143d38035d4707@your-domain.com
URL:https://www.kbi-dachau.de/fortbildung-jugendwarte_v_209.html
END:VEVENT
END:VCALENDAR
	
