BEGIN:VCALENDAR
METHOD:PUBLISH
PRODID:-//Your-Prodid-Here//NONSGML iCalcreator 0.9.15//
VERSION:2.0
BEGIN:VEVENT
CLASS:PUBLIC
DTSTART;VALUE=DATE-TIME:20260304T190000
DTEND;VALUE=DATE-TIME:20260304T220000
DTSTAMP:20260420T052401Z
LOCATION:Katastrophenschutzzentrum
PRIORITY:3
SUMMARY:Übung Katastrophenschutz
UID:eaae242b477f981684dceacbc264be3b@your-domain.com
URL:https://www.kbi-dachau.de/Uebung-katastrophenschutz_v_208.html
END:VEVENT
END:VCALENDAR
	
