BEGIN:VCALENDAR
METHOD:PUBLISH
PRODID:-//Your-Prodid-Here//NONSGML iCalcreator 0.9.15//
VERSION:2.0
BEGIN:VEVENT
CLASS:PUBLIC
DTSTART;VALUE=DATE-TIME:20260123T190000
DTEND;VALUE=DATE-TIME:20260123T220000
DTSTAMP:20260420T052253Z
LOCATION:Schlossgut Odelzhausen
PRIORITY:3
SUMMARY:Jahresessen Kreisbrandinspektion
UID:2846f07ddce4f55c12762cd429dfc01e@your-domain.com
URL:https://www.kbi-dachau.de/jahresessen-kreisbrandinspektion_v_207.html
END:VEVENT
END:VCALENDAR
	
