BEGIN:VCALENDAR
METHOD:PUBLISH
PRODID:-//Your-Prodid-Here//NONSGML iCalcreator 0.9.15//
VERSION:2.0
BEGIN:VEVENT
CLASS:PUBLIC
DTSTART;VALUE=DATE-TIME:20261029T190000
DTEND;VALUE=DATE-TIME:20261029T220000
DTSTAMP:20260420T052253Z
LOCATION:
PRIORITY:3
SUMMARY:Kommandantenversammlung
UID:59bfda3772a237e3c8be77dce5a7ef1e@your-domain.com
URL:https://www.kbi-dachau.de/kommandantenversammlung_v_206.html
END:VEVENT
END:VCALENDAR
	
