BEGIN:VCALENDAR
METHOD:PUBLISH
PRODID:-//Your-Prodid-Here//NONSGML iCalcreator 0.9.15//
VERSION:2.0
BEGIN:VEVENT
CLASS:PUBLIC
DTSTART;VALUE=DATE-TIME:20261110T190000
DTEND;VALUE=DATE-TIME:20261110T220000
DTSTAMP:20260422T085949Z
LOCATION:Katastrophenschutzzentrum
PRIORITY:3
SUMMARY:Herbstdienstversammlung der Jugendwarte
UID:287d1388eb109515a25eb98acf3469db@your-domain.com
URL:https://www.kbi-dachau.de/herbstdienstversammlung-der-jugendwarte_v_205.html
END:VEVENT
END:VCALENDAR
	
