BEGIN:VCALENDAR
METHOD:PUBLISH
PRODID:-//Your-Prodid-Here//NONSGML iCalcreator 0.9.15//
VERSION:2.0
BEGIN:VEVENT
CLASS:PUBLIC
DTSTART;VALUE=DATE-TIME:20260226T190000
DTEND;VALUE=DATE-TIME:20260226T220000
DTSTAMP:20260420T052400Z
LOCATION:Feuerwehr Eisenhofen
PRIORITY:3
SUMMARY:Frühjahrsdienstversammlung der Jugendwarte
UID:869ce0924280fc0f6103667c88b6b917@your-domain.com
URL:https://www.kbi-dachau.de/fruehjahrsdienstversammlung-der-jugendwarte_v_204.html
END:VEVENT
END:VCALENDAR
	
