BEGIN:VCALENDAR
METHOD:PUBLISH
PRODID:-//Your-Prodid-Here//NONSGML iCalcreator 0.9.15//
VERSION:2.0
BEGIN:VEVENT
CLASS:PUBLIC
DTSTART;VALUE=DATE-TIME:20260326T190000
DTEND;VALUE=DATE-TIME:20260326T220000
DTSTAMP:20260420T075440Z
LOCATION:
PRIORITY:3
SUMMARY:Kommandantenversammlung
UID:9902bcb35fbf1ad6bdc6822a380363e9@your-domain.com
URL:https://www.kbi-dachau.de/kommandantenversammlung_v_203.html
END:VEVENT
END:VCALENDAR
	
