BEGIN:VCALENDAR
METHOD:PUBLISH
PRODID:-//Your-Prodid-Here//NONSGML iCalcreator 0.9.15//
VERSION:2.0
BEGIN:VEVENT
CLASS:PUBLIC
DTSTART;VALUE=DATE-TIME:20260626T190000
DTEND;VALUE=DATE-TIME:20260626T230000
DTSTAMP:20260420T063237Z
LOCATION:Gastwirtschaft Doll
PRIORITY:3
SUMMARY:Ehrenabend
UID:70de3d50241b656d8a9088922263cce7@your-domain.com
URL:https://www.kbi-dachau.de/ehrenabend_v_202.html
END:VEVENT
END:VCALENDAR
	
