BEGIN:VCALENDAR
METHOD:PUBLISH
PRODID:-//Your-Prodid-Here//NONSGML iCalcreator 0.9.15//
VERSION:2.0
BEGIN:VEVENT
CLASS:PUBLIC
DTSTART;VALUE=DATE-TIME:20260617T190000
DTEND;VALUE=DATE-TIME:20260617T220000
DTSTAMP:20260420T075159Z
LOCATION:Katastrophenschutzzentrum
PRIORITY:3
SUMMARY:KBM-Dienstbesprechung
UID:cbd0638d097d03b0f353bfea9aed923d@your-domain.com
URL:https://www.kbi-dachau.de/kbm-dienstbesprechung_v_201.html
END:VEVENT
END:VCALENDAR
	
