BEGIN:VCALENDAR
METHOD:PUBLISH
PRODID:-//Your-Prodid-Here//NONSGML iCalcreator 0.9.15//
VERSION:2.0
BEGIN:VEVENT
CLASS:PUBLIC
DTSTART;VALUE=DATE-TIME:20240706T000000
DTEND;VALUE=DATE-TIME:20240707T235900
DTSTAMP:20260420T052254Z
LOCATION:Feuerwehr Hirschberg
PRIORITY:3
SUMMARY:Reservierung Hüpfburg
UID:28dc631455950c96ae0bda1339b42f5f@your-domain.com
URL:https://www.kbi-dachau.de/reservierung-huepfburg_v_20.html
END:VEVENT
END:VCALENDAR
	
