BEGIN:VCALENDAR
METHOD:PUBLISH
PRODID:-//Your-Prodid-Here//NONSGML iCalcreator 0.9.15//
VERSION:2.0
BEGIN:VEVENT
CLASS:PUBLIC
DTSTART;VALUE=DATE-TIME:20260423T190000
DTEND;VALUE=DATE-TIME:20260423T220000
DTSTAMP:20260420T051831Z
LOCATION:Gastwirtschaft Doll
PRIORITY:3
SUMMARY:Verbandsversammlung
UID:f473ca681ab9e87e551e4a4e9c9885d8@your-domain.com
URL:https://www.kbi-dachau.de/verbandsversammlung_v_199.html
END:VEVENT
END:VCALENDAR
	
