BEGIN:VCALENDAR
METHOD:PUBLISH
PRODID:-//Your-Prodid-Here//NONSGML iCalcreator 0.9.15//
VERSION:2.0
BEGIN:VEVENT
CLASS:PUBLIC
DTSTART;VALUE=DATE-TIME:20260211T190000
DTEND;VALUE=DATE-TIME:20260211T220000
DTSTAMP:20260420T124246Z
LOCATION:Katastrophenschutzzentrum
PRIORITY:3
SUMMARY:KBM-Dienstbesprechung mit Verbandsausschuss
UID:dc2072c38cb30653f40289ce411fc364@your-domain.com
URL:https://www.kbi-dachau.de/kbm-dienstbesprechung-mit-verbandsausschuss_v_197.html
END:VEVENT
END:VCALENDAR
	
