BEGIN:VCALENDAR
METHOD:PUBLISH
PRODID:-//Your-Prodid-Here//NONSGML iCalcreator 0.9.15//
VERSION:2.0
BEGIN:VEVENT
CLASS:PUBLIC
DTSTART;VALUE=DATE-TIME:20260318T190000
DTEND;VALUE=DATE-TIME:20260318T220000
DTSTAMP:20260420T075301Z
LOCATION:Katastrophenschutzzentrum
PRIORITY:3
SUMMARY:KBM-Dienstbesprechung
UID:752355a58b47d456052b21f21bb9ef92@your-domain.com
URL:https://www.kbi-dachau.de/kbm-dienstbesprechung_v_196.html
END:VEVENT
END:VCALENDAR
	
