BEGIN:VCALENDAR
METHOD:PUBLISH
PRODID:-//Your-Prodid-Here//NONSGML iCalcreator 0.9.15//
VERSION:2.0
BEGIN:VEVENT
CLASS:PUBLIC
DTSTART;VALUE=DATE-TIME:20251114T000000
DTEND;VALUE=DATE-TIME:20251116T235900
DTSTAMP:20260420T052400Z
LOCATION:Feuerwehr Scheyern
PRIORITY:3
SUMMARY:Reservierung Hüpfburg
UID:e1a1b6626972b98fb569fd133e532d51@your-domain.com
URL:https://www.kbi-dachau.de/reservierung-huepfburg_v_194.html
END:VEVENT
END:VCALENDAR
	
