BEGIN:VCALENDAR
METHOD:PUBLISH
PRODID:-//Your-Prodid-Here//NONSGML iCalcreator 0.9.15//
VERSION:2.0
BEGIN:VEVENT
CLASS:PUBLIC
DTSTART;VALUE=DATE-TIME:20250903T000000
DTEND;VALUE=DATE-TIME:20250905T235900
DTSTAMP:20260420T052019Z
LOCATION:Feuerwehr Oberroth
PRIORITY:3
SUMMARY:Reservierung Feuerlöschtrainer
UID:21791a7f291d80c60d00b0a2b714f68b@your-domain.com
URL:https://www.kbi-dachau.de/reservierung-feuerloeschtrainer_v_192.html
END:VEVENT
END:VCALENDAR
	
