BEGIN:VCALENDAR
METHOD:PUBLISH
PRODID:-//Your-Prodid-Here//NONSGML iCalcreator 0.9.15//
VERSION:2.0
BEGIN:VEVENT
CLASS:PUBLIC
DTSTART;VALUE=DATE-TIME:20250912T000000
DTEND;VALUE=DATE-TIME:20250915T235900
DTSTAMP:20260420T051943Z
LOCATION:Feuerwehr Eschenried-Gröbenried 
PRIORITY:3
SUMMARY:Reservierung Feuerlöschtrainer
UID:0e7a829ae67bd2aa578a67a30b07760a@your-domain.com
URL:https://www.kbi-dachau.de/reservierung-feuerloeschtrainer_v_191.html
END:VEVENT
END:VCALENDAR
	
