BEGIN:VCALENDAR
METHOD:PUBLISH
PRODID:-//Your-Prodid-Here//NONSGML iCalcreator 0.9.15//
VERSION:2.0
BEGIN:VEVENT
CLASS:PUBLIC
DTSTART;VALUE=DATE-TIME:20260821T000000
DTEND;VALUE=DATE-TIME:20260823T235900
DTSTAMP:20260420T051938Z
LOCATION:Feuerwehr Rottenegg
PRIORITY:3
SUMMARY:Reservierung Hüpfburg
UID:58eb9a949402a8393861597fce8ca7fa@your-domain.com
URL:https://www.kbi-dachau.de/reservierung-huepfburg_v_190.html
END:VEVENT
END:VCALENDAR
	
