BEGIN:VCALENDAR
METHOD:PUBLISH
PRODID:-//Your-Prodid-Here//NONSGML iCalcreator 0.9.15//
VERSION:2.0
BEGIN:VEVENT
CLASS:PUBLIC
DTSTART;VALUE=DATE-TIME:20260710T000000
DTEND;VALUE=DATE-TIME:20260711T235900
DTSTAMP:20260420T052431Z
LOCATION:Feuerwehr Ilmmünster
PRIORITY:3
SUMMARY:Reservierung Hüpfburg
UID:64261d16d46f4e69fcc7e88511748d29@your-domain.com
URL:https://www.kbi-dachau.de/reservierung-huepfburg_v_188.html
END:VEVENT
END:VCALENDAR
	
