BEGIN:VCALENDAR
METHOD:PUBLISH
PRODID:-//Your-Prodid-Here//NONSGML iCalcreator 0.9.15//
VERSION:2.0
BEGIN:VEVENT
CLASS:PUBLIC
DTSTART;VALUE=DATE-TIME:20250809T123940
DTEND;VALUE=DATE-TIME:20250809T123940
DTSTAMP:20260420T052406Z
LOCATION:Feuerwehr Icking
PRIORITY:3
SUMMARY:Reservierung Hüpfburg
UID:3d444f9547cdf5f81e25d40438431eb2@your-domain.com
URL:https://www.kbi-dachau.de/reservierung-huepfburg_v_187.html
END:VEVENT
END:VCALENDAR
	
