BEGIN:VCALENDAR
METHOD:PUBLISH
PRODID:-//Your-Prodid-Here//NONSGML iCalcreator 0.9.15//
VERSION:2.0
BEGIN:VEVENT
CLASS:PUBLIC
DTSTART;VALUE=DATE-TIME:20260912T000000
DTEND;VALUE=DATE-TIME:20260913T235900
DTSTAMP:20260420T052411Z
LOCATION:Feuerwehr Straßlach
PRIORITY:3
SUMMARY:Reservierung Hüpfburg
UID:09c86c17c9621d63699876118752f9ee@your-domain.com
URL:https://www.kbi-dachau.de/reservierung-huepfburg_v_186.html
END:VEVENT
END:VCALENDAR
	
