BEGIN:VCALENDAR
METHOD:PUBLISH
PRODID:-//Your-Prodid-Here//NONSGML iCalcreator 0.9.15//
VERSION:2.0
BEGIN:VEVENT
CLASS:PUBLIC
DTSTART;VALUE=DATE-TIME:20250822T000000
DTEND;VALUE=DATE-TIME:20250824T230000
DTSTAMP:20260420T052111Z
LOCATION:Feuerwehr Hohenzell
PRIORITY:3
SUMMARY:Reservierung Hüpfburg
UID:7a368bb019ef47504823e56474f53e7f@your-domain.com
URL:https://www.kbi-dachau.de/reservierung-huepfburg_v_183.html
END:VEVENT
END:VCALENDAR
	
