BEGIN:VCALENDAR
METHOD:PUBLISH
PRODID:-//Your-Prodid-Here//NONSGML iCalcreator 0.9.15//
VERSION:2.0
BEGIN:VEVENT
CLASS:PUBLIC
DTSTART;VALUE=DATE-TIME:20251003T000000
DTEND;VALUE=DATE-TIME:20251004T235900
DTSTAMP:20260420T052136Z
LOCATION:Feuerwehr Mattenhofen-Haslach
PRIORITY:3
SUMMARY:Reservierung Hüpfburg
UID:2586d812d321ff7394e1f817f1dea11a@your-domain.com
URL:https://www.kbi-dachau.de/reservierung-huepfburg_v_181.html
END:VEVENT
END:VCALENDAR
	
