BEGIN:VCALENDAR
METHOD:PUBLISH
PRODID:-//Your-Prodid-Here//NONSGML iCalcreator 0.9.15//
VERSION:2.0
BEGIN:VEVENT
CLASS:PUBLIC
DTSTART;VALUE=DATE-TIME:20260509T000000
DTEND;VALUE=DATE-TIME:20260511T235900
DTSTAMP:20260420T052431Z
LOCATION:Feuerwehr Luttenwang
PRIORITY:3
SUMMARY:Reservierung Hüpfburg
UID:57e9a9eb3df68ce2a8755c2682fcee96@your-domain.com
URL:https://www.kbi-dachau.de/reservierung-huepfburg_v_180.html
END:VEVENT
END:VCALENDAR
	
