BEGIN:VCALENDAR
METHOD:PUBLISH
PRODID:-//Your-Prodid-Here//NONSGML iCalcreator 0.9.15//
VERSION:2.0
BEGIN:VEVENT
CLASS:PUBLIC
DTSTART;VALUE=DATE-TIME:20240628T000000
DTEND;VALUE=DATE-TIME:20240701T235900
DTSTAMP:20260420T075329Z
LOCATION:Feuerwehr Oberalting-Seefeld
PRIORITY:3
SUMMARY:Reservierung Hüpfburg
UID:dc2802692ceca21c71a0aec1a31c492a@your-domain.com
URL:https://www.kbi-dachau.de/reservierung-huepfburg_v_18.html
END:VEVENT
END:VCALENDAR
	
