BEGIN:VCALENDAR
METHOD:PUBLISH
PRODID:-//Your-Prodid-Here//NONSGML iCalcreator 0.9.15//
VERSION:2.0
BEGIN:VEVENT
CLASS:PUBLIC
DTSTART;VALUE=DATE-TIME:20250731T000000
DTEND;VALUE=DATE-TIME:20250731T235900
DTSTAMP:20260420T052411Z
LOCATION:Feuerwehr Poing
PRIORITY:3
SUMMARY:Reservierung Hüpfburg
UID:f8f8f06f24cb4a3bdad9dbfb67191935@your-domain.com
URL:https://www.kbi-dachau.de/reservierung-huepfburg_v_179.html
END:VEVENT
END:VCALENDAR
	
