BEGIN:VCALENDAR
METHOD:PUBLISH
PRODID:-//Your-Prodid-Here//NONSGML iCalcreator 0.9.15//
VERSION:2.0
BEGIN:VEVENT
CLASS:PUBLIC
DTSTART;VALUE=DATE-TIME:20250906T000000
DTEND;VALUE=DATE-TIME:20250908T235900
DTSTAMP:20260420T052259Z
LOCATION:Feuerwehr Hepberg
PRIORITY:3
SUMMARY:Reservierung Hüpfburg
UID:c7b5a21855d04ac855ea1af81198dd8e@your-domain.com
URL:https://www.kbi-dachau.de/reservierung-huepfburg_v_178.html
END:VEVENT
END:VCALENDAR
	
