BEGIN:VCALENDAR
METHOD:PUBLISH
PRODID:-//Your-Prodid-Here//NONSGML iCalcreator 0.9.15//
VERSION:2.0
BEGIN:VEVENT
CLASS:PUBLIC
DTSTART;VALUE=DATE-TIME:20260814T000000
DTEND;VALUE=DATE-TIME:20260816T230000
DTSTAMP:20260420T052020Z
LOCATION:Feuerwehr Eching
PRIORITY:3
SUMMARY:Reservierung Hüpfburg
UID:8d97edcf7d60b7a805a93809ead94fdf@your-domain.com
URL:https://www.kbi-dachau.de/reservierung-huepfburg_v_175.html
END:VEVENT
END:VCALENDAR
	
