BEGIN:VCALENDAR
METHOD:PUBLISH
PRODID:-//Your-Prodid-Here//NONSGML iCalcreator 0.9.15//
VERSION:2.0
BEGIN:VEVENT
CLASS:PUBLIC
DTSTART;VALUE=DATE-TIME:20250623T000000
DTEND;VALUE=DATE-TIME:20250623T230000
DTSTAMP:20260420T052259Z
LOCATION:Landratsamt Dachau
PRIORITY:3
SUMMARY:Reservierung Feuerlöschtrainer
UID:fe15fb1f33c833bc4de4de83ac682379@your-domain.com
URL:https://www.kbi-dachau.de/reservierung-feuerloeschtrainer_v_174.html
END:VEVENT
END:VCALENDAR
	
