BEGIN:VCALENDAR
METHOD:PUBLISH
PRODID:-//Your-Prodid-Here//NONSGML iCalcreator 0.9.15//
VERSION:2.0
BEGIN:VEVENT
CLASS:PUBLIC
DTSTART;VALUE=DATE-TIME:20260612T000000
DTEND;VALUE=DATE-TIME:20260614T235900
DTSTAMP:20260421T175330Z
LOCATION:Feuerwehr Kollbach
PRIORITY:3
SUMMARY:Reservierung Feuerlöschtrainer
UID:232321c873b2cab91103b4452ef1bf95@your-domain.com
URL:https://www.kbi-dachau.de/reservierung-feuerloeschtrainer_v_170.html
END:VEVENT
END:VCALENDAR
	
