BEGIN:VCALENDAR
METHOD:PUBLISH
PRODID:-//Your-Prodid-Here//NONSGML iCalcreator 0.9.15//
VERSION:2.0
BEGIN:VEVENT
CLASS:PUBLIC
DTSTART;VALUE=DATE-TIME:20240621T000000
DTEND;VALUE=DATE-TIME:20240623T235900
DTSTAMP:20260420T052254Z
LOCATION:Feuerwehr Unterschleißheim
PRIORITY:3
SUMMARY:Reservierung Hüpfburg
UID:32a91666fb29d8233ad880deab442c0a@your-domain.com
URL:https://www.kbi-dachau.de/reservierung-huepfburg_v_17.html
END:VEVENT
END:VCALENDAR
	
